Workbook

Sheet 総人口
C1: 三重県の人口（推計） | E1: 46143 | G1: 現在
L2: 市 | M2: 町
A3: 総人口 | B3: 1684993 | C3: 人 | H3: 市町別人口 | K3: 増 加 | L3: 6市 | M3: 3町
A4: （ 男 | B4: 823584 | C4: 人 女 | D4: 861409 | E4: 人 ） | K4: 減 少 | L4: 8市 | M4: 12町
B5: 前月に比べ | C5: 125 | D5: 人増加 | E5: 0.0074 | F5: ％増加 | K5: 増減なし | L5: 0市 | M5: 0町
A6: 自然動態 | B6: -1075 | C6: 人減少
A7: 出生 | B7: 740 | C7: 人 死亡 | D7: 1815 | E7: 人 | K7: 増加数 | N7: 減少数
I8: 1 | J8: 四日市市 | K8: 237 | L8: 1 | M8: 松阪市 | N8: -112
A9: 社会動態 | B9: 1200 | C9: 人増加 | I9: 2 | J9: 津市 | K9: 187 | L9: 2 | M9: 志摩市 | N9: -70
A10: 増加 | B10: 8428 | C10: 人 （転入 | D10: 8361 | E10: 人 その他の移動 | G10: 67 | H10: 人） | I10: 3 | J10: いなべ市 | K10: 155 | L10: 3 | M10: 伊勢市 | N10: -56
A11: 減少 | B11: 7228 | C11: 人 （転出 | D11: 7112 | E11: 人 その他の移動 | G11: 116 | H11: 人） | I11: 4 | J11: 鳥羽市 | K11: 38 | L11: 4 | M11: 名張市 | N11: -40
I12: 5 | J12: 熊野市 | K12: 30 | L12: 5 | M12: 南伊勢町 | N12: -36
A14: 月別人口の推移
E15: 前 １ か 月 間 の 増 減 数
A16: 年 月 | B16: 総 数 | C16: 男 | D16: 女 | E16: 増減数 | F16: 増減率 | G16: 出 生 | H16: 死 亡 | I16: 転 入 | K16: 転 出 | M16: その他の移動
A17: （各月１日現在） | F17: （％） | I17: 県内から | J17: 県外から | K17: 県内へ | L17: 県外へ | M17: 増 | N17: 減
A18: 45962 | B18: 1694378 | C18: 827920 | D18: 866458 | E18: -518 | F18: -0.0306 | G18: 889 | H18: 1801 | I18: 1802 | J18: 3193 | K18: 1790 | L18: 2745 | M18: 49 | N18: 115
A19: 45992 | B19: 1693387 | C19: 827503 | D19: 865884 | E19: -991 | F19: -0.0585 | G19: 725 | H19: 1954 | I19: 1445 | J19: 2661 | K19: 1493 | L19: 2322 | M19: 42 | N19: 95
A20: 46023 | B20: 1691952 | C20: 826781 | D20: 865171 | E20: -1435 | F20: -0.0847 | G20: 799 | H20: 2089 | I20: 1663 | J20: 2692 | K20: 1697 | L20: 2762 | M20: 75 | N20: 116
A21: 46054 | B21: 1690362 | C21: 825936 | D21: 864426 | E21: -1590 | F21: -0.094 | G21: 808 | H21: 2355 | I21: 1556 | J21: 2970 | K21: 1585 | L21: 2941 | M21: 62 | N21: 105
A22: 46082 | B22: 1688671 | C22: 825102 | D22: 863569 | E22: -1691 | F22: -0.1 | G22: 651 | H22: 2067 | I22: 1696 | J22: 2768 | K22: 1752 | L22: 2936 | M22: 66 | N22: 117
A23: 46113 | B23: 1684868 | C23: 823230 | D23: 861638 | E23: -3803 | F23: -0.2252 | G23: 710 | H23: 2040 | I23: 4027 | J23: 6815 | K23: 4344 | L23: 8897 | M23: 74 | N23: 148
A24: 46143 | B24: 1684993 | C24: 823584 | D24: 861409 | E24: 125 | F24: 0.0074 | G24: 740 | H24: 1815 | I24: 2755 | J24: 5606 | K24: 2472 | L24: 4640 | M24: 67 | N24: 116
A26: ※推計人口及び推計世帯数は、令和7年国勢調査人口等基本集計結果の人口及び世帯数を基礎として、各市町から報告された住民基本台帳における動態結果を加減し算出しました。

Sheet 市町別人口
B1: 三重県の人口 (市町別推計人口) | F1: 46143 | G1: 現在
B3: 総数 | C3: 男 | D3: 女 | E3: 世帯数 | G3: 総数 | H3: 男 | I3: 女 | J3: 世帯数 | L3: 国 勢 調 査 人 口
A4: 三重県 | B4: 1684993 | C4: 823584 | D4: 861409 | E4: 750732 | F4: 桑名郡 | G4: 5661 | H4: 2914 | I4: 2747 | J4: 2325 | L4: S50年 | M4: 1,626,002人
A5: 市 計 | B5: 1480567 | C5: 724785 | D5: 755782 | E5: 664651 | F5: 木曽岬町 | G5: 5661 | H5: 2914 | I5: 2747 | J5: 2325 | L5: 55年 | M5: 1,686,936人
A6: 郡 計 | B6: 204426 | C6: 98799 | D6: 105627 | E6: 86081 | F6: 員弁郡 | G6: 25212 | H6: 12275 | I6: 12937 | J6: 9709 | L6: 60年 | M6: 1,747,311人
A7: 津市 | B7: 262925 | C7: 128194 | D7: 134731 | E7: 119085 | F7: 東員町 | G7: 25212 | H7: 12275 | I7: 12937 | J7: 9709 | L7: H 2年 | M7: 1,792,514人
A8: 四日市市 | B8: 303658 | C8: 151631 | D8: 152027 | E8: 138754 | F8: 三重郡 | G8: 66014 | H8: 32810 | I8: 33204 | J8: 27672 | L8: 7年 | M8: 1,841,358人
A9: 伊勢市 | B9: 114607 | C9: 54294 | D9: 60313 | E9: 53012 | F9: 菰野町 | G9: 39102 | H9: 19260 | I9: 19842 | J9: 15877 | L9: 12年 | M9: 1,857,339人
A10: 松阪市 | B10: 149576 | C10: 71357 | D10: 78219 | E10: 65499 | F10: 朝日町 | G10: 11147 | H10: 5509 | I10: 5638 | J10: 4426 | L10: 17年 | M10: 1,866,963人
A11: 桑名市 | B11: 133315 | C11: 65707 | D11: 67608 | E11: 58073 | F11: 川越町 | G11: 15765 | H11: 8041 | I11: 7724 | J11: 7369 | L11: 22年 | M11: 1,854,724人
A12: 鈴鹿市 | B12: 189011 | C12: 93999 | D12: 95012 | E12: 84025 | F12: 多気郡 | G12: 41768 | H12: 19826 | I12: 21942 | J12: 16462 | L12: 27年 | M12: 1,815,865人
A13: 名張市 | B13: 71299 | C13: 34243 | D13: 37056 | E13: 31133 | F13: 多気町 | G13: 12748 | H13: 6063 | I13: 6685 | J13: 4834 | L13: R2年 | M13: 1,770,254人
A14: 尾鷲市 | B14: 13834 | C14: 6433 | D14: 7401 | E14: 7268 | F14: 明和町 | G14: 21356 | H14: 10102 | I14: 11254 | J14: 8258 | L14: R7年 | M14: 1,694,896人
A15: 亀山市 | B15: 48892 | C15: 24747 | D15: 24145 | E15: 21530 | F15: 大台町 | G15: 7664 | H15: 3661 | I15: 4003 | J15: 3370
A16: 鳥羽市 | B16: 14947 | C16: 7031 | D16: 7916 | E16: 6842 | F16: 度会郡 | G16: 36796 | H16: 17413 | I16: 19383 | J16: 15685 | L16: 前月までの最高人口（推計）
A17: 熊野市 | B17: 13700 | C17: 6344 | D17: 7356 | E17: 6873 | F17: 玉城町 | G17: 14289 | H17: 6835 | I17: 7454 | J17: 5634 | L17: 平成17年8月1日現在
A18: いなべ市 | B18: 44004 | C18: 22768 | D18: 21236 | E18: 18921 | F18: 度会町 | G18: 7161 | H18: 3454 | I18: 3707 | J18: 2723 | M18: 1,870,907人
A19: 志摩市 | B19: 39857 | C19: 18389 | D19: 21468 | E19: 18456 | F19: 大紀町 | G19: 6382 | H19: 2971 | I19: 3411 | J19: 3010
A20: 伊賀市 | B20: 80942 | C20: 39648 | D20: 41294 | E20: 35180 | F20: 南伊勢町 | G20: 8964 | H20: 4153 | I20: 4811 | J20: 4318
F21: 北牟婁郡 | G21: 12246 | H21: 5761 | I21: 6485 | J21: 6156
F22: 紀北町 | G22: 12246 | H22: 5761 | I22: 6485 | J22: 6156
F23: 南牟婁郡 | G23: 16729 | H23: 7800 | I23: 8929 | J23: 8072
F24: 御浜町 | G24: 7183 | H24: 3388 | I24: 3795 | J24: 3498
F25: 紀宝町 | G25: 9546 | H25: 4412 | I25: 5134 | J25: 4574

Sheet 市郡別人口動態
B1: 46143 | D1: 現在の三重県の人口
A3: 区分 | B3: 面積 | C3: 人口 | G3: 自 然 動 態 | J3: 社 会 動 態 | L3: 女100人に | M3: 人口密度 | N3: 前月に比し増減 | P3: 世帯数
B4: (k㎡) | C4: 総数 | D4: 男 | E4: 女 | F4: 出生 | G4: 死亡 | H4: 差 | I4: 転入 | J4: 転出 | K4: 差 | L4: つ き 男 | M4: (人/km2) | N4: 人口 | O4: 世帯数
A5: 総 数 | B5: 5774.48 | C5: 1684993 | D5: 823584 | E5: 861409 | F5: 740 | G5: 1815 | H5: -1075 | I5: 8428 | J5: 7228 | K5: 1200 | L5: 95.608938 | M5: 291.79995 | N5: 125 | O5: 2203 | P5: 750732
A6: 市 計 | B6: 4031.95 | C6: 1480567 | D6: 724785 | E6: 755782 | F6: 667 | G6: 1572 | H6: -905 | I6: 7660 | J6: 6424 | K6: 1236 | L6: 95.898685 | M6: 367.20867 | N6: 331 | O6: 2143 | P6: 664651
A7: 郡 計 | B7: 1742.52 | C7: 204426 | D7: 98799 | E7: 105627 | F7: 73 | G7: 243 | H7: -170 | I7: 768 | J7: 804 | K7: -36 | L7: 93.535744 | M7: 117.3163 | N7: -206 | O7: 60 | P7: 86081
A8: 津市 | B8: 711.18 | C8: 262925 | D8: 128194 | E8: 134731 | F8: 113 | G8: 274 | H8: -161 | I8: 1575 | J8: 1227 | K8: 348 | L8: 95.14811 | M8: 369.70247 | N8: 187 | O8: 536 | P8: 119085
A9: 四日市市 | B9: 206.5 | C9: 303658 | D9: 151631 | E9: 152027 | F9: 162 | G9: 264 | H9: -102 | I9: 1792 | J9: 1453 | K9: 339 | L9: 99.73952 | M9: 1470.4988 | N9: 237 | O9: 568 | P9: 138754
A10: 伊勢市 | B10: 208.37 | C10: 114607 | D10: 54294 | E10: 60313 | F10: 45 | G10: 142 | H10: -97 | I10: 464 | J10: 423 | K10: 41 | L10: 90.020394 | M10: 550.0168 | N10: -56 | O10: 129 | P10: 53012
A11: 松阪市 | B11: 623.58 | C11: 149576 | D11: 71357 | E11: 78219 | F11: 59 | G11: 177 | H11: -118 | I11: 608 | J11: 602 | K11: 6 | L11: 91.227195 | M11: 239.86658 | N11: -112 | O11: 68 | P11: 65499
A12: 桑名市 | B12: 136.65 | C12: 133315 | D12: 65707 | E12: 67608 | F12: 68 | G12: 130 | H12: -62 | I12: 670 | J12: 626 | K12: 44 | L12: 97.188203 | M12: 975.59458 | N12: -18 | O12: 167 | P12: 58073
A13: 鈴鹿市 | B13: 194.46 | C13: 189011 | D13: 93999 | E13: 95012 | F13: 108 | G13: 168 | H13: -60 | I13: 890 | J13: 831 | K13: 59 | L13: 98.933819 | M13: 971.97881 | N13: -1 | O13: 234 | P13: 84025
A14: 名張市 | B14: 129.77 | C14: 71299 | D14: 34243 | E14: 37056 | F14: 26 | G14: 79 | H14: -53 | I14: 221 | J14: 208 | K14: 13 | L14: 92.408787 | M14: 549.42591 | N14: -40 | O14: 21 | P14: 31133
A15: 尾鷲市 | B15: 192.71 | C15: 13834 | D15: 6433 | E15: 7401 | F15: 3 | G15: 35 | H15: -32 | I15: 96 | J15: 92 | K15: 4 | L15: 86.920686 | M15: 71.786622 | N15: -28 | O15: 8 | P15: 7268
A16: 亀山市 | B16: 191.04 | C16: 48892 | D16: 24747 | E16: 24145 | F16: 20 | G16: 43 | H16: -23 | I16: 227 | J16: 193 | K16: 34 | L16: 102.49327 | M16: 255.92546 | N16: 11 | O16: 45 | P16: 21530
... A43: 紀宝町 | B43: 79.62 | C43: 9546 | D43: 4412 | E43: 5134 | F43: 4 | G43: 21 | H43: -17 | I43: 34 | J43: 25 | K43: 9 | L43: 85.936891 | M43: 119.8945 | N43: -8 | O43: 0 | P43: 4574
A44: 注)
A45: (1) 推計人口及び推計世帯数は、令和7年国勢調査結果速報値を基礎として、各市町から報告された住民基本台帳における動態結果を加減し算出しました。
A46: (2) 転入及び転出には県内間移動を含みます。
A47: (3) 転入には職権記載及び国籍取得など、転出には職権消除及び国籍喪失などを含みます。
A48: (4) 面積は国土交通省国土地理院｢令和7年全国都道府県市区町村別面積調（10月1日時点）｣に基づくものです。
B49: (ただし、各面積は少数第三位で四捨五入しているため、その合計は、県、市及び郡の計と一致しない場合があります。）

Sheet 地域別人口
B1: 地域別推計人口 | F1: =[1]月間集計!B14 -> 46143 | G1: 現在
A5: 地 域 名 | B5: 総 数 | C5: 男 | D5: 女 | E5: 人口比率 | F5: 世帯数 | G5: 世帯比率 | H5: 範 囲
A6: 桑名 | B6: =[1]月間集計!AE28+[1]月間集計!AE35+[1]月間集計!AE17+[1]月間集計!AE18 -> 208192 | C6: =[1]月間集計!AF28+[1]月間集計!AF35+[1]月間集計!AF17+[1]月間集計!AF18 -> 103664 | D6: =[1]月間集計!AG28+[1]月間集計!AG35+[1]月間集計!AG17+[1]月間集計!AG18 -> 104528 | E6: =B6/$B$15 -> 0.1235566 | F6: =[1]月間集計!AX28+[1]月間集計!AX35+[1]月間集計!AX17+[1]月間集計!AX18 -> 89028 | G6: =F6/$F$15 -> 0.11858826 | H6: 桑名市・いなべ市・桑名郡・員弁郡
A7: 四日市 | B7: =[1]月間集計!AE25+[1]月間集計!AE19 -> 369672 | C7: =[1]月間集計!AF25+[1]月間集計!AF19 -> 184441 | D7: =[1]月間集計!AG25+[1]月間集計!AG19 -> 185231 | E7: =B7/$B$15 -> 0.21939082 | F7: =[1]月間集計!AX25+[1]月間集計!AX19 -> 166426 | G7: =F7/$F$15 -> 0.22168497 | H7: 四日市市・三重郡
A8: 鈴鹿 | B8: =[1]月間集計!AE29+[1]月間集計!AE32 -> 237903 | C8: =[1]月間集計!AF29+[1]月間集計!AF32 -> 118746 | D8: =[1]月間集計!AG29+[1]月間集計!AG32 -> 119157 | E8: =B8/$B$15 -> 0.14118931 | F8: =[1]月間集計!AX29+[1]月間集計!AX32 -> 105555 | G8: =F8/$F$15 -> 0.14060277 | H8: 鈴鹿市・亀山市
A9: 津 | B9: =[1]月間集計!AE24 -> 262925 | C9: =[1]月間集計!AF24 -> 128194 | D9: =[1]月間集計!AG24 -> 134731 | E9: =B9/$B$15 -> 0.15603922 | F9: =[1]月間集計!AX24 -> 119085 | G9: =F9/$F$15 -> 0.15862518 | H9: 津市
A10: 松阪 | B10: =[1]月間集計!AE27+[1]月間集計!AE20 -> 191344 | C10: =[1]月間集計!AF27+[1]月間集計!AF20 -> 91183 | D10: =[1]月間集計!AG27+[1]月間集計!AG20 -> 100161 | E10: =B10/$B$15 -> 0.11355774 | F10: =[1]月間集計!AX27+[1]月間集計!AX20 -> 81961 | G10: =F10/$F$15 -> 0.10917478 | H10: 松阪市・多気郡
A11: 伊勢 | B11: =[1]月間集計!AE26+[1]月間集計!AE33+[1]月間集計!AE36+[1]月間集計!AE21 -> 206207 | C11: =[1]月間集計!AF26+[1]月間集計!AF33+[1]月間集計!AF36+[1]月間集計!AF21 -> 97127 | D11: =[1]月間集計!AG26+[1]月間集計!AG33+[1]月間集計!AG36+[1]月間集計!AG21 -> 109080 | E11: =B11/$B$15 -> 0.12237855 | F11: =[1]月間集計!AX26+[1]月間集計!AX33+[1]月間集計!AX36+[1]月間集計!AX21 -> 93995 | G11: =F11/$F$15 -> 0.12520447 | H11: 伊勢市・鳥羽市・志摩市・度会郡
A12: 伊賀 | B12: =[1]月間集計!AE30+[1]月間集計!AE37 -> 152241 | C12: =[1]月間集計!AF30+[1]月間集計!AF37 -> 73891 | D12: =[1]月間集計!AG30+[1]月間集計!AG37 -> 78350 | E12: =B12/$B$15 -> 0.090351117 | F12: =[1]月間集計!AX30+[1]月間集計!AX37 -> 66313 | G12: =F12/$F$15 -> 0.088331122 | H12: 名張市・伊賀市
A13: 尾鷲 | B13: =[1]月間集計!AE31+[1]月間集計!AE22 -> 26080 | C13: =[1]月間集計!AF31+[1]月間集計!AF22 -> 12194 | D13: =[1]月間集計!AG31+[1]月間集計!AG22 -> 13886 | E13: =B13/$B$15 -> 0.015477809 | F13: =[1]月間集計!AX31+[1]月間集計!AX22 -> 13424 | G13: =F13/$F$15 -> 0.017881215 | H13: 尾鷲市・北牟婁郡
A14: 熊野 | B14: =[1]月間集計!AE34+[1]月間集計!AE23 -> 30429 | C14: =[1]月間集計!AF34+[1]月間集計!AF23 -> 14144 | D14: =[1]月間集計!AG34+[1]月間集計!AG23 -> 16285 | E14: =B14/$B$15 -> 0.018058829 | F14: =[1]月間集計!AX34+[1]月間集計!AX23 -> 14945 | G14: =F14/$F$15 -> 0.019907237 | H14: 熊野市・南牟婁郡
A15: 合計 | B15: =SUM(B6:B14) -> 1684993 | C15: =SUM(C6:C14) -> 823584 | D15: =SUM(D6:D14) -> 861409 | E15: =SUM(E6:E14) -> 1 | F15: =SUM(F6:F14) -> 750732 | G15: =SUM(G6:G14) -> 1
A17: ＊ 人口比率及び世帯比率は、小数第二位を四捨五入しているため、地域別の計が100％とならない場合があります。
